Package: riboSeqR Version: 1.38.0 Maintainer: Samuel Granjeaud MaintainerEmail: samuel.granjeaud at inserm.fr git_url: https://git.bioconductor.org/packages/riboSeqR git_branch: RELEASE_3_19 git_last_commit: f0079ce git_last_commit_date: 2024-04-30 10:37:11 -0400 (Tue, 30 Apr 2024)