Package: rhdf5client Version: 1.26.0 Command: chmod a+r rhdf5client -R && F:\biocbuild\bbs-3.19-bioc\R\bin\R.exe CMD build --keep-empty-dirs --no-resave-data rhdf5client StartedAt: 2024-06-26 21:23:29 -0400 (Wed, 26 Jun 2024) EndedAt: 2024-06-26 21:25:06 -0400 (Wed, 26 Jun 2024) EllapsedTime: 96.7 seconds RetCode: 0 Status: OK PackageFile: rhdf5client_1.26.0.tar.gz PackageFileSize: 531.1 KiB