Package: rhdf5client Version: 1.26.0 Command: rm -rf rhdf5client.buildbin-libdir && mkdir rhdf5client.buildbin-libdir && F:\biocbuild\bbs-3.19-bioc\R\bin\R.exe CMD INSTALL --build --library=rhdf5client.buildbin-libdir rhdf5client_1.26.0.tar.gz StartedAt: 2024-06-27 08:47:10 -0400 (Thu, 27 Jun 2024) EndedAt: 2024-06-27 08:47:44 -0400 (Thu, 27 Jun 2024) EllapsedTime: 33.7 seconds RetCode: 0 Status: OK PackageFile: rhdf5client_1.26.0.zip PackageFileSize: 986.5 KiB