Package: rhdf5client Version: 1.26.0 Command: /home/biocbuild/bbs-3.19-bioc/R/bin/R CMD INSTALL rhdf5client StartedAt: 2024-10-16 15:53:49 -0400 (Wed, 16 Oct 2024) EndedAt: 2024-10-16 15:54:07 -0400 (Wed, 16 Oct 2024) EllapsedTime: 17.8 seconds RetCode: 0 Status: OK