Package: rhdf5client Version: 1.26.0 Command: /Library/Frameworks/R.framework/Resources/bin/R CMD check --install=check:rhdf5client.install-out.txt --library=/Library/Frameworks/R.framework/Resources/library --no-vignettes --timings rhdf5client_1.26.0.tar.gz StartedAt: 2024-10-17 11:52:47 -0400 (Thu, 17 Oct 2024) EndedAt: 2024-10-17 11:57:49 -0400 (Thu, 17 Oct 2024) EllapsedTime: 302.3 seconds RetCode: 0 Status: OK CheckDir: rhdf5client.Rcheck Warnings: 0