Package: rhdf5client Version: 1.26.0 Command: /home/biocbuild/R/R-beta-2024-04-15_r86425/bin/R CMD check --install=check:rhdf5client.install-out.txt --library=/home/biocbuild/R/R-beta-2024-04-15_r86425/site-library --no-vignettes --timings rhdf5client_1.26.0.tar.gz StartedAt: 2024-05-09 11:11:16 -0000 (Thu, 09 May 2024) EndedAt: 2024-05-09 11:14:21 -0000 (Thu, 09 May 2024) EllapsedTime: 185.4 seconds RetCode: 0 Status: OK CheckDir: rhdf5client.Rcheck Warnings: 0