Package: rhdf5client Version: 1.26.0 Command: /Library/Frameworks/R.framework/Resources/bin/R CMD check --install=check:rhdf5client.install-out.txt --library=/Library/Frameworks/R.framework/Resources/library --no-vignettes --timings rhdf5client_1.26.0.tar.gz StartedAt: 2024-10-18 09:30:58 -0400 (Fri, 18 Oct 2024) EndedAt: 2024-10-18 09:33:40 -0400 (Fri, 18 Oct 2024) EllapsedTime: 161.5 seconds RetCode: 0 Status: OK CheckDir: rhdf5client.Rcheck Warnings: 0