Package: rhdf5client Version: 1.26.0 Command: /Library/Frameworks/R.framework/Resources/bin/R CMD build --keep-empty-dirs --no-resave-data rhdf5client StartedAt: 2024-10-17 07:33:56 -0400 (Thu, 17 Oct 2024) EndedAt: 2024-10-17 07:34:33 -0400 (Thu, 17 Oct 2024) EllapsedTime: 36.9 seconds RetCode: 0 Status: OK PackageFile: rhdf5client_1.26.0.tar.gz PackageFileSize: 531.1 KiB