Package: rhdf5client Version: 1.26.0 Command: rm -rf rhdf5client.buildbin-libdir && mkdir rhdf5client.buildbin-libdir && /Users/biocbuild/BBS/utils/build-universal.sh rhdf5client_1.26.0.tar.gz /Library/Frameworks/R.framework/Resources/bin/R rhdf5client.buildbin-libdir StartedAt: 2024-10-18 20:16:46 -0400 (Fri, 18 Oct 2024) EndedAt: 2024-10-18 20:17:12 -0400 (Fri, 18 Oct 2024) EllapsedTime: 25.9 seconds RetCode: 0 Status: OK PackageFile: rhdf5client_1.26.0.tgz PackageFileSize: 980.7 KiB