Package: rhdf5client Version: 1.26.0 Maintainer: Vincent Carey MaintainerEmail: stvjc at channing.harvard.edu git_url: https://git.bioconductor.org/packages/rhdf5client git_branch: RELEASE_3_19 git_last_commit: aac49be git_last_commit_date: 2024-04-30 11:01:49 -0400 (Tue, 30 Apr 2024)