Package: rhdf5 Version: 2.48.0 Command: chmod a+r rhdf5 -R && E:\biocbuild\bbs-3.19-bioc\R\bin\R.exe CMD build --keep-empty-dirs --no-resave-data rhdf5 StartedAt: 2024-10-16 21:30:09 -0400 (Wed, 16 Oct 2024) EndedAt: 2024-10-16 21:32:48 -0400 (Wed, 16 Oct 2024) EllapsedTime: 159.3 seconds RetCode: 0 Status: OK PackageFile: rhdf5_2.48.0.tar.gz PackageFileSize: 1.2 MiB