Package: rhdf5 Version: 2.48.0 Command: F:\biocbuild\bbs-3.19-bioc\R\bin\R.exe CMD INSTALL rhdf5 StartedAt: 2024-06-26 15:41:44 -0400 (Wed, 26 Jun 2024) EndedAt: 2024-06-26 15:42:23 -0400 (Wed, 26 Jun 2024) EllapsedTime: 39.7 seconds RetCode: 0 Status: OK