Package: rhdf5 Version: 2.48.0 Command: chmod a+r rhdf5 -R && F:\biocbuild\bbs-3.19-bioc\R\bin\R.exe CMD build --keep-empty-dirs --no-resave-data rhdf5 StartedAt: 2024-06-26 21:22:53 -0400 (Wed, 26 Jun 2024) EndedAt: 2024-06-26 21:26:36 -0400 (Wed, 26 Jun 2024) EllapsedTime: 222.9 seconds RetCode: 0 Status: OK PackageFile: rhdf5_2.48.0.tar.gz PackageFileSize: 1.2 MiB