Package: rhdf5 Version: 2.48.0 Command: rm -rf rhdf5.buildbin-libdir && mkdir rhdf5.buildbin-libdir && F:\biocbuild\bbs-3.19-bioc\R\bin\R.exe CMD INSTALL --build --library=rhdf5.buildbin-libdir rhdf5_2.48.0.tar.gz StartedAt: 2024-06-27 08:47:08 -0400 (Thu, 27 Jun 2024) EndedAt: 2024-06-27 08:48:26 -0400 (Thu, 27 Jun 2024) EllapsedTime: 77.5 seconds RetCode: 0 Status: OK PackageFile: rhdf5_2.48.0.zip PackageFileSize: 4.368 MiB