Package: rhdf5 Version: 2.48.0 Command: /home/biocbuild/bbs-3.19-bioc/R/bin/R CMD INSTALL rhdf5 StartedAt: 2024-10-16 15:53:43 -0400 (Wed, 16 Oct 2024) EndedAt: 2024-10-16 15:53:53 -0400 (Wed, 16 Oct 2024) EllapsedTime: 10.1 seconds RetCode: 0 Status: OK