Package: rhdf5 Version: 2.48.0 Command: /home/biocbuild/bbs-3.19-bioc/R/bin/R CMD check --install=check:rhdf5.install-out.txt --library=/home/biocbuild/bbs-3.19-bioc/R/site-library --timings rhdf5_2.48.0.tar.gz StartedAt: 2024-10-17 04:21:24 -0400 (Thu, 17 Oct 2024) EndedAt: 2024-10-17 04:27:28 -0400 (Thu, 17 Oct 2024) EllapsedTime: 364.1 seconds RetCode: 0 Status: WARNINGS CheckDir: rhdf5.Rcheck Warnings: 1