Package: rhdf5 Version: 2.48.0 Command: /home/biocbuild/bbs-3.19-bioc/R/bin/R CMD build --keep-empty-dirs --no-resave-data rhdf5 StartedAt: 2024-10-16 20:25:33 -0400 (Wed, 16 Oct 2024) EndedAt: 2024-10-16 20:31:09 -0400 (Wed, 16 Oct 2024) EllapsedTime: 335.8 seconds RetCode: 0 Status: OK PackageFile: rhdf5_2.48.0.tar.gz PackageFileSize: 1.214 MiB