Package: rhdf5 Version: 2.48.0 Command: /Library/Frameworks/R.framework/Resources/bin/R CMD build --keep-empty-dirs --no-resave-data rhdf5 StartedAt: 2024-10-16 22:34:16 -0400 (Wed, 16 Oct 2024) EndedAt: 2024-10-16 22:37:14 -0400 (Wed, 16 Oct 2024) EllapsedTime: 177.8 seconds RetCode: 0 Status: OK PackageFile: rhdf5_2.48.0.tar.gz PackageFileSize: 1.203 MiB