Package: rhdf5 Version: 2.48.0 Command: /Library/Frameworks/R.framework/Resources/bin/R CMD INSTALL rhdf5 StartedAt: 2024-10-16 15:41:57 -0400 (Wed, 16 Oct 2024) EndedAt: 2024-10-16 15:42:12 -0400 (Wed, 16 Oct 2024) EllapsedTime: 15.5 seconds RetCode: 0 Status: OK