Package: rhdf5 Version: 2.48.0 Command: rm -rf rhdf5.buildbin-libdir && mkdir rhdf5.buildbin-libdir && /Users/biocbuild/BBS/utils/build-universal.sh rhdf5_2.48.0.tar.gz /Library/Frameworks/R.framework/Resources/bin/R rhdf5.buildbin-libdir StartedAt: 2024-10-18 20:16:27 -0400 (Fri, 18 Oct 2024) EndedAt: 2024-10-18 20:16:52 -0400 (Fri, 18 Oct 2024) EllapsedTime: 24.7 seconds RetCode: 0 Status: OK PackageFile: rhdf5_2.48.0.tgz PackageFileSize: 3.433 MiB