Package: rgoslin Version: 1.8.0 Command: chmod a+r rgoslin -R && F:\biocbuild\bbs-3.19-bioc\R\bin\R.exe CMD build --keep-empty-dirs --no-resave-data rgoslin StartedAt: 2024-06-26 21:22:24 -0400 (Wed, 26 Jun 2024) EndedAt: 2024-06-26 21:25:35 -0400 (Wed, 26 Jun 2024) EllapsedTime: 191.1 seconds RetCode: 0 Status: OK PackageFile: rgoslin_1.8.0.tar.gz PackageFileSize: 466.3 KiB