Package: rgoslin Version: 1.8.0 Command: /home/biocbuild/bbs-3.19-bioc/R/bin/R CMD build --keep-empty-dirs --no-resave-data rgoslin StartedAt: 2024-10-16 20:25:15 -0400 (Wed, 16 Oct 2024) EndedAt: 2024-10-16 20:28:23 -0400 (Wed, 16 Oct 2024) EllapsedTime: 188.4 seconds RetCode: 0 Status: OK PackageFile: rgoslin_1.8.0.tar.gz PackageFileSize: 637.7 KiB