Package: rgoslin Version: 1.8.0 Command: rm -rf rgoslin.buildbin-libdir && mkdir rgoslin.buildbin-libdir && /Users/biocbuild/BBS/utils/build-universal.sh rgoslin_1.8.0.tar.gz /Library/Frameworks/R.framework/Resources/bin/R rgoslin.buildbin-libdir StartedAt: 2024-06-11 12:48:21 -0400 (Tue, 11 Jun 2024) EndedAt: 2024-06-11 12:54:30 -0400 (Tue, 11 Jun 2024) EllapsedTime: 368.4 seconds RetCode: 0 Status: OK PackageFile: rgoslin_1.8.0.tgz PackageFileSize: 1.138 MiB