Package: rgoslin Version: 1.8.0 Command: /Library/Frameworks/R.framework/Resources/bin/R CMD check --install=check:rgoslin.install-out.txt --library=/Library/Frameworks/R.framework/Resources/library --no-vignettes --timings rgoslin_1.8.0.tar.gz StartedAt: 2024-10-18 09:27:05 -0400 (Fri, 18 Oct 2024) EndedAt: 2024-10-18 09:27:40 -0400 (Fri, 18 Oct 2024) EllapsedTime: 35.2 seconds RetCode: 0 Status: OK CheckDir: rgoslin.Rcheck Warnings: 0