Package: rfPred Version: 1.42.0 Command: E:\biocbuild\bbs-3.19-bioc\R\bin\R.exe CMD check --no-multiarch --install=check:rfPred.install-out.txt --library=E:\biocbuild\bbs-3.19-bioc\R\library --no-vignettes --timings rfPred_1.42.0.tar.gz StartedAt: 2024-10-17 05:00:50 -0400 (Thu, 17 Oct 2024) EndedAt: 2024-10-17 05:02:24 -0400 (Thu, 17 Oct 2024) EllapsedTime: 93.2 seconds RetCode: 0 Status: OK CheckDir: rfPred.Rcheck Warnings: 0