Package: rfPred Version: 1.42.0 Command: chmod a+r rfPred -R && E:\biocbuild\bbs-3.19-bioc\R\bin\R.exe CMD build --keep-empty-dirs --no-resave-data rfPred StartedAt: 2024-10-16 21:29:23 -0400 (Wed, 16 Oct 2024) EndedAt: 2024-10-16 21:29:49 -0400 (Wed, 16 Oct 2024) EllapsedTime: 26.7 seconds RetCode: 0 Status: OK PackageFile: rfPred_1.42.0.tar.gz PackageFileSize: 1.054 MiB