Package: rfPred Version: 1.42.0 Command: rm -rf rfPred.buildbin-libdir && mkdir rfPred.buildbin-libdir && E:\biocbuild\bbs-3.19-bioc\R\bin\R.exe CMD INSTALL --build --library=rfPred.buildbin-libdir rfPred_1.42.0.tar.gz StartedAt: 2024-10-17 08:28:47 -0400 (Thu, 17 Oct 2024) EndedAt: 2024-10-17 08:29:04 -0400 (Thu, 17 Oct 2024) EllapsedTime: 16.6 seconds RetCode: 0 Status: OK PackageFile: rfPred_1.42.0.zip PackageFileSize: 1.084 MiB