Package: rfPred Version: 1.42.0 Command: /Library/Frameworks/R.framework/Resources/bin/R CMD build --keep-empty-dirs --no-resave-data rfPred StartedAt: 2024-10-16 22:33:11 -0400 (Wed, 16 Oct 2024) EndedAt: 2024-10-16 22:34:03 -0400 (Wed, 16 Oct 2024) EllapsedTime: 51.8 seconds RetCode: 0 Status: OK PackageFile: rfPred_1.42.0.tar.gz PackageFileSize: 1.053 MiB