Package: rfPred Version: 1.42.0 Command: /Library/Frameworks/R.framework/Resources/bin/R CMD INSTALL rfPred StartedAt: 2024-06-09 15:15:25 -0400 (Sun, 09 Jun 2024) EndedAt: 2024-06-09 15:15:43 -0400 (Sun, 09 Jun 2024) EllapsedTime: 18.0 seconds RetCode: 0 Status: OK