Package: rfPred Version: 1.42.0 Command: /home/biocbuild/R/R-beta-2024-04-15_r86425/bin/R CMD INSTALL rfPred StartedAt: 2024-05-08 20:19:30 -0000 (Wed, 08 May 2024) EndedAt: 2024-05-08 20:19:47 -0000 (Wed, 08 May 2024) EllapsedTime: 16.8 seconds RetCode: 0 Status: OK