Package: rfPred Version: 1.42.0 Command: /home/biocbuild/R/R-beta-2024-04-15_r86425/bin/R CMD check --install=check:rfPred.install-out.txt --library=/home/biocbuild/R/R-beta-2024-04-15_r86425/site-library --no-vignettes --timings rfPred_1.42.0.tar.gz StartedAt: 2024-05-09 11:09:18 -0000 (Thu, 09 May 2024) EndedAt: 2024-05-09 11:11:04 -0000 (Thu, 09 May 2024) EllapsedTime: 106.2 seconds RetCode: 0 Status: OK CheckDir: rfPred.Rcheck Warnings: 0