Package: rfPred Version: 1.42.0 Command: /home/biocbuild/R/R-beta-2024-04-15_r86425/bin/R CMD build --keep-empty-dirs --no-resave-data rfPred StartedAt: 2024-05-09 02:58:20 -0000 (Thu, 09 May 2024) EndedAt: 2024-05-09 02:58:42 -0000 (Thu, 09 May 2024) EllapsedTime: 22.0 seconds RetCode: 0 Status: OK PackageFile: rfPred_1.42.0.tar.gz PackageFileSize: 1.044 MiB