Package: rfPred Version: 1.42.0 Command: /Library/Frameworks/R.framework/Resources/bin/R CMD check --install=check:rfPred.install-out.txt --library=/Library/Frameworks/R.framework/Resources/library --no-vignettes --timings rfPred_1.42.0.tar.gz StartedAt: 2024-10-18 09:25:24 -0400 (Fri, 18 Oct 2024) EndedAt: 2024-10-18 09:27:07 -0400 (Fri, 18 Oct 2024) EllapsedTime: 103.4 seconds RetCode: 0 Status: OK CheckDir: rfPred.Rcheck Warnings: 0