Package: rfPred Version: 1.42.0 Command: rm -rf rfPred.buildbin-libdir && mkdir rfPred.buildbin-libdir && /Users/biocbuild/BBS/utils/build-universal.sh rfPred_1.42.0.tar.gz /Library/Frameworks/R.framework/Resources/bin/R rfPred.buildbin-libdir StartedAt: 2024-10-18 20:15:14 -0400 (Fri, 18 Oct 2024) EndedAt: 2024-10-18 20:15:32 -0400 (Fri, 18 Oct 2024) EllapsedTime: 18.3 seconds RetCode: 0 Status: OK PackageFile: rfPred_1.42.0.tgz PackageFileSize: 1.076 MiB