Package: rexposome Version: 1.26.0 Command: E:\biocbuild\bbs-3.19-bioc\R\bin\R.exe CMD INSTALL rexposome StartedAt: 2024-10-16 17:08:45 -0400 (Wed, 16 Oct 2024) EndedAt: 2024-10-16 17:09:48 -0400 (Wed, 16 Oct 2024) EllapsedTime: 63.7 seconds RetCode: 0 Status: OK