Package: rexposome Version: 1.26.0 Command: rm -rf rexposome.buildbin-libdir && mkdir rexposome.buildbin-libdir && E:\biocbuild\bbs-3.19-bioc\R\bin\R.exe CMD INSTALL --build --library=rexposome.buildbin-libdir rexposome_1.26.0.tar.gz StartedAt: 2024-10-17 08:28:42 -0400 (Thu, 17 Oct 2024) EndedAt: 2024-10-17 08:29:53 -0400 (Thu, 17 Oct 2024) EllapsedTime: 70.6 seconds RetCode: 0 Status: OK PackageFile: rexposome_1.26.0.zip PackageFileSize: 6.005 MiB