Package: rexposome Version: 1.26.0 Command: rm -rf rexposome.buildbin-libdir && mkdir rexposome.buildbin-libdir && F:\biocbuild\bbs-3.19-bioc\R\bin\R.exe CMD INSTALL --build --library=rexposome.buildbin-libdir rexposome_1.26.0.tar.gz StartedAt: 2024-06-27 08:46:29 -0400 (Thu, 27 Jun 2024) EndedAt: 2024-06-27 08:47:13 -0400 (Thu, 27 Jun 2024) EllapsedTime: 43.4 seconds RetCode: 0 Status: OK PackageFile: rexposome_1.26.0.zip PackageFileSize: 6.004 MiB