Package: rexposome Version: 1.26.0 Command: /home/biocbuild/bbs-3.19-bioc/R/bin/R CMD INSTALL rexposome StartedAt: 2024-10-16 16:36:26 -0400 (Wed, 16 Oct 2024) EndedAt: 2024-10-16 16:36:46 -0400 (Wed, 16 Oct 2024) EllapsedTime: 20.4 seconds RetCode: 0 Status: OK