Package: rexposome Version: 1.26.0 Command: /home/biocbuild/R/R-beta-2024-04-15_r86425/bin/R CMD build --keep-empty-dirs --no-resave-data rexposome StartedAt: 2024-05-09 02:57:43 -0000 (Thu, 09 May 2024) EndedAt: 2024-05-09 03:00:07 -0000 (Thu, 09 May 2024) EllapsedTime: 144.2 seconds RetCode: 0 Status: OK PackageFile: rexposome_1.26.0.tar.gz PackageFileSize: 5.795 MiB