Package: rexposome Version: 1.26.0 Command: /Library/Frameworks/R.framework/Resources/bin/R CMD INSTALL rexposome StartedAt: 2024-10-16 18:20:20 -0400 (Wed, 16 Oct 2024) EndedAt: 2024-10-16 18:20:45 -0400 (Wed, 16 Oct 2024) EllapsedTime: 25.2 seconds RetCode: 0 Status: OK