Package: rexposome Version: 1.26.0 Command: rm -rf rexposome.buildbin-libdir && mkdir rexposome.buildbin-libdir && /Users/biocbuild/BBS/utils/build-universal.sh rexposome_1.26.0.tar.gz /Library/Frameworks/R.framework/Resources/bin/R rexposome.buildbin-libdir StartedAt: 2024-10-18 20:14:52 -0400 (Fri, 18 Oct 2024) EndedAt: 2024-10-18 20:15:25 -0400 (Fri, 18 Oct 2024) EllapsedTime: 33.1 seconds RetCode: 0 Status: OK PackageFile: rexposome_1.26.0.tgz PackageFileSize: 9.157 MiB