Package: rexposome Version: 1.26.0 Maintainer: Xavier EscribĂ  Montagut MaintainerEmail: xavier.escriba at isglobal.org git_url: https://git.bioconductor.org/packages/rexposome git_branch: RELEASE_3_19 git_last_commit: b60227d git_last_commit_date: 2024-04-30 10:59:30 -0400 (Tue, 30 Apr 2024)