Package: retrofit Version: 1.4.0 Command: F:\biocbuild\bbs-3.19-bioc\R\bin\R.exe CMD INSTALL retrofit StartedAt: 2024-06-26 15:40:47 -0400 (Wed, 26 Jun 2024) EndedAt: 2024-06-26 15:41:42 -0400 (Wed, 26 Jun 2024) EllapsedTime: 55.0 seconds RetCode: 0 Status: OK