Package: retrofit Version: 1.4.0 Command: /home/biocbuild/bbs-3.19-bioc/R/bin/R CMD build --keep-empty-dirs --no-resave-data retrofit StartedAt: 2024-10-16 20:24:29 -0400 (Wed, 16 Oct 2024) EndedAt: 2024-10-16 20:25:09 -0400 (Wed, 16 Oct 2024) EllapsedTime: 40.1 seconds RetCode: 0 Status: OK PackageFile: retrofit_1.4.0.tar.gz PackageFileSize: 4.425 MiB