Package: retrofit Version: 1.4.0 Command: rm -rf retrofit.buildbin-libdir && mkdir retrofit.buildbin-libdir && /Users/biocbuild/BBS/utils/build-universal.sh retrofit_1.4.0.tar.gz /Library/Frameworks/R.framework/Resources/bin/R retrofit.buildbin-libdir StartedAt: 2024-10-17 16:58:28 -0400 (Thu, 17 Oct 2024) EndedAt: 2024-10-17 16:59:17 -0400 (Thu, 17 Oct 2024) EllapsedTime: 49.1 seconds RetCode: 0 Status: OK PackageFile: retrofit_1.4.0.tgz PackageFileSize: 4.637 MiB