Package: retrofit Version: 1.4.0 Command: /home/biocbuild/R/R-beta-2024-04-15_r86425/bin/R CMD INSTALL retrofit StartedAt: 2024-05-08 20:03:59 -0000 (Wed, 08 May 2024) EndedAt: 2024-05-08 20:05:07 -0000 (Wed, 08 May 2024) EllapsedTime: 68.3 seconds RetCode: 0 Status: OK