Package: retrofit Version: 1.4.0 Command: rm -rf retrofit.buildbin-libdir && mkdir retrofit.buildbin-libdir && /Users/biocbuild/BBS/utils/build-universal.sh retrofit_1.4.0.tar.gz /Library/Frameworks/R.framework/Resources/bin/R retrofit.buildbin-libdir StartedAt: 2024-06-11 12:47:18 -0400 (Tue, 11 Jun 2024) EndedAt: 2024-06-11 12:48:08 -0400 (Tue, 11 Jun 2024) EllapsedTime: 49.8 seconds RetCode: 0 Status: OK PackageFile: retrofit_1.4.0.tgz PackageFileSize: 4.632 MiB