Package: retrofit Version: 1.4.0 Command: /Library/Frameworks/R.framework/Resources/bin/R CMD INSTALL retrofit StartedAt: 2024-10-16 15:37:54 -0400 (Wed, 16 Oct 2024) EndedAt: 2024-10-16 15:38:12 -0400 (Wed, 16 Oct 2024) EllapsedTime: 18.3 seconds RetCode: 0 Status: OK