Package: retrofit Version: 1.4.0 Maintainer: Adam Park MaintainerEmail: akp6031 at psu.edu git_url: https://git.bioconductor.org/packages/retrofit git_branch: RELEASE_3_19 git_last_commit: 7d32b7d git_last_commit_date: 2024-04-30 11:49:06 -0400 (Tue, 30 Apr 2024)