Package: restfulSE Version: 1.26.0 Command: /home/biocbuild/bbs-3.19-bioc/R/bin/R CMD INSTALL restfulSE StartedAt: 2024-10-16 16:05:14 -0400 (Wed, 16 Oct 2024) EndedAt: 2024-10-16 16:05:46 -0400 (Wed, 16 Oct 2024) EllapsedTime: 31.9 seconds RetCode: 0 Status: OK